Workbook

Sheet Guidance
A1: General guidance for how to use this document
A2: Type of sheet | B2: Information
A3: Comparison overview | B3: The comparison overview outlines the individual specification points in the Biology, Chemistry and Physics Separate Science Pearson Edexcel specifications. Specifcation points that are not in bold and do not have a 'B', 'C' or 'P' after the numbers are also found in the Science (Double Award) specification. A tick indicates that the specification point is covered in Pearson Edexcel and the relevant awarding bodies specification. An 'N' means that the specification point from Pearson Edexcel is not clearly identifiable and present in the relevant awarding bodies specification. In the example below (taken from the 'Biology Comparison Overview' sheet), you can find out the following information for the Pearson Edexcel specification point "understand the advantages and disadvantages of using stem cells in medicine": - The linear spec point and modular spec point are emboldened and have a 'B' after the numbers - this means that this specification point is only covered in the Biology International GCSE specification, and not the Science (Double Award) specification. - The 'N' in the CAIE (Seperate) and CAIE (Co-ordinated) means that this content is not explicitly stated in these specifications, therefore this is a way in which the Pearson Edexcel and Cambridge International qualifications may differ. - The green tick in the OxfordAQA (Separate) and OxfordAQA (Combined Science) means that this content is present in these specifications, therefore this is a way in which the Pearson Edexcel and OxfordAQA qualifications are similar.
A4: Specification specific sheets e.g. CAIE IGCSE Biology 0610-0970 | B4: The name of the tab indicates the specification that can be found, where a more granular comparison can be made between the named specification and the comparative discipline in Pearson Edexcel. Where a comparative specification point exists in the Pearson specification, this is indicated for both the linear and modular specifications. The Pearson modular and linear specification number will be provided, as well as the specific specification statement so that you can see exactly how they compare. In the 'Notes' section, this provides additional detail. For example, different terms that students may or may not need to be familar with or if the content may be found in another Pearson specification. The following sheets have biology, chemistry and physics content within them: - CAIE IGCSE Co-Ord Sci 0654-0973 - CAIE IGCSE Combined 0653 - OxAQA IntGCSE Combined Sci 9204 - AQA GCSE Comb Sci Trilogy 8464 - AQA GCSE Comb Sci Synergy 8465 The Pearson Edexcel comparative spec point number will relate to the specification of the relevant discipline. For example, if the discipline is indicated as being Biology, 5.1 in the 'Pearson Edexcel Modular Spec point' column will refer to "understand the terms: population, community, habitat and ecosystem" instead of 5.1 in the Physics and Chemistry specifications ("use the following units: degree (°), hertz (Hz), metre (m), metre/second (m/s) and second (s)" or "understand how ions are formed by electron loss or gain").

Sheet Biology Comparison Overview
A1: Pearson Edexcel | D1: Comparison overview ( "N" means not specified/unclear)
A2: Linear spec point | B2: Modular spec point | C2: Spec point description | D2: CAIE (Separate) | E2: CAIE (Co-ordinated) | F2: OxfordAQA (Separate) | G2: OxfordAQA (Combined Science) | H2: AQA (Separate) | I2: AQA (Comb Sci Trilogy) | J2: AQA (Comb Sci Synergy)
A3: 1.1 | B3: 1.1 | C3: understand how living organisms share the following characteristics: • they require nutrition • they respire • they excrete their waste • they respond to their surroundings • they move • they control their internal conditions • they reproduce • they grow and develop | D3: ü | E3: ü | F3: N | G3: N | H3: N | I3: N | J3: N
A4: 1.2 | B4: 1.2 | C4: describe the common features shown by eukaryotic organisms: plants, animals, fungi and protoctists | D4: ü | E4: N | F4: ü | G4: ü | H4: ü | I4: ü | J4: ü
A5: 1.3 | B5: 1.3 | C5: describe the common features shown by prokaryotic organisms such as bacteria | D5: ü | E5: ü | F5: ü | G5: ü | H5: ü | I5: ü | J5: ü
A6: 1.4 | B6: 1.4 | C6: understand the term ‘pathogen’ and know that pathogens may include fungi, bacteria, protoctists and viruses | D6: ü | E6: ü | F6: ü | G6: ü | H6: ü | I6: ü | J6: ü
A7: 2.1 | B7: 2.1 | C7: describe the levels of organisation in organisms: organelles, cells, tissues, organs and systems | D7: ü | E7: N | F7: ü | G7: ü | H7: ü | I7: ü | J7: N
A8: 2.2 | B8: 2.2 | C8: describe cell structures, including the nucleus, cytoplasm, cell membrane, cell wall, mitochondria, chloroplasts, ribosomes and vacuole | D8: ü | E8: ü | F8: ü | G8: ü | H8: ü | I8: ü | J8: ü
A9: 2.3 | B9: 2.3 | C9: describe the functions of the nucleus, cytoplasm, cell membrane, cell wall, mitochondria, chloroplasts, ribosomes and vacuole | D9: ü | E9: ü | F9: ü | G9: ü | H9: ü | I9: ü | J9: ü
A10: 2.4 | B10: 2.4 | C10: know the similarities and differences in the structure of plant and animal cells | D10: ü | E10: ü | F10: ü | G10: ü | H10: ü | I10: ü | J10: ü
A11: 2.5B | B11: 2.5B | C11: explain the importance of cell differentiation in the development of specialised cells | D11: ü | E11: ü | F11: ü | G11: ü | H11: ü | I11: ü | J11: ü
A12: 2.6B | B12: 2.6B | C12: understand the advantages and disadvantages of using stem cells in medicine | D12: N | E12: N | F12: ü | G12: ü | H12: ü | I12: ü | J12: ü
A13: 2.7 | B13: 2.7 | C13: identify the chemical elements present in carbohydrates, proteins and lipids (fats and oils) | D13: ü | E13: ü | F13: N | G13: N | H13: N | I13: N | J13: N
A14: 2.8 | B14: 2.8 | C14: describe the structure of carbohydrates, proteins and lipids as large molecules made up from smaller basic units: starch and glycogen from simple sugars, protein from amino acids, and lipid from fatty acids and glycerol | D14: ü | E14: ü | F14: N | G14: N | H14: ü | I14: ü | J14: ü
A15: 2.9 | B15: 2.9 | C15: practical: investigate food samples for the presence of glucose, starch, protein and fat | D15: ü | E15: ü | F15: N | G15: N | H15: ü | I15: ü | J15: ü
A16: 2.10 | B16: 2.10 | C16: understand the role of enzymes as biological catalysts in metabolic reactions | D16: ü | E16: ü | F16: ü | G16: ü | H16: ü | I16: ü | J16: ü
A17: 2.11 | B17: 2.11 | C17: understand how temperature changes can affect enzyme function, including changes to the shape of active site | D17: ü | E17: ü | F17: ü | G17: ü | H17: ü | I17: ü | J17: ü
A18: 2.12 | B18: 2.12 | C18: practical: investigate how enzyme activity can be affected by changes in temperature | D18: ü | E18: ü | F18: ü | G18: ü | H18: N | I18: N | J18: N
A19: 2.13 | B19: 2.13 | C19: understand how enzyme function can be affected by changes in pH altering the active site | D19: ü | E19: ü | F19: ü | G19: ü | H19: N | I19: N | J19: ü
A20: 2.14B | B20: 2.14B | C20: practical: investigate how enzyme activity can be affected by changes in pH | D20: ü | E20: ü | F20: ü | G20: ü | H20: ü | I20: ü | J20: ü
A21: 2.15 | B21: 2.15 | C21: understand the processes of diffusion, osmosis and active transport by which substances move into and out of cells | D21: ü | E21: ü | F21: ü | G21: ü | H21: ü | I21: ü | J21: ü
A22: 2.16 | B22: 2.16 | C22: understand how factors affect the rate of movement of substances into and out of cells, including the effects of surface area to volume ratio, distance, temperature and concentration gradient | D22: ü | E22: ü | F22: ü | G22: ü | H22: ü | I22: ü | J22: ü
A23: 2.17 | B23: 2.17 | C23: practical: investigate diffusion and osmosis using living and non-living systems | D23: ü | E23: ü | F23: ü | G23: ü | H23: ü | I23: ü | J23: ü
A24: 2.18 | B24: 2.18 | C24: understand the process of photosynthesis and its importance in the conversion of light energy to chemical energy | D24: ü | E24: ü | F24: ü | G24: ü | H24: ü | I24: ü | J24: ü
A25: 2.19 | B25: 2.19 | C25: know the word equation and the balanced chemical symbol equation for photosynthesis | D25: ü | E25: ü | F25: ü | G25: ü | H25: ü | I25: ü | J25: ü
A26: 2.20 | B26: 2.20 | C26: understand how varying carbon dioxide concentration, light intensity and temperature affect the rate of photosynthesis | D26: ü | E26: ü | F26: ü | G26: ü | H26: ü | I26: ü | J26: ü
A27: 2.21 | B27: 2.21 | C27: describe the structure of the leaf and explain how it is adapted for photosynthesis | D27: ü | E27: ü | F27: ü | G27: ü | H27: ü | I27: ü | J27: ü
... A178: 5.20B | B178: 6.20B | C178: understand how cloned transgenic animals can be used to produce human proteins | D178: N | E178: N | F178: N | G178: N | H178: N | I178: N | J178: N

Sheet Chemistry Comparison Overview
A1: Pearson Edexcel | D1: Comparison overview ( "N" means not specified/unclear)
A2: Linear spec point | B2: Modular spec point | C2: Spec point description | D2: CIE (Separate) | E2: CIE (Co-ordinated) | F2: OxfordAQA (Separate) | G2: OxfordAQA (Combined Science) | H2: AQA (Separate) | I2: AQA (Comb Sci Trilogy) | J2: AQA (Comb Sci Synergy)
A3: 1.1 | B3: 1.1 | C3: understand the three states of matter in terms of the arrangement, movement and energy of the particles | D3: ü | E3: ü | F3: ü | G3: ü | H3: ü | I3: ü | J3: N
A4: 1.2 | B4: 1.2 | C4: understand the interconversions between the three states of matter in terms of: • the names of the interconversions • how they are achieved • the changes in arrangement, movement and energy of the particles | D4: ü | E4: ü | F4: ü | G4: ü | H4: ü | I4: ü | J4: N
A5: 1.3 | B5: 1.3 | C5: understand how the results of experiments involving the dilution of coloured solutions and diffusion of gases can be explained | D5: ü | E5: ü | F5: ü | G5: ü | H5: N | I5: N | J5: N
A6: 1.4 | B6: 1.4 | C6: know what is meant by the terms: • solvent • solute • solution • saturated solution | D6: ü | E6: ü | F6: N | G6: N | H6: N | I6: N | J6: N
A7: 1.5C | B7: 1.5C | C7: know what is meant by the term solubility in the units g per 100 g of solvent | D7: N | E7: N | F7: N | G7: N | H7: ü | I7: ü | J7: ü
A8: 1.6C | B8: 1.6C | C8: understand how to plot and interpret solubility curves | D8: N | E8: N | F8: N | G8: N | H8: N | I8: N | J8: N
A9: 1.7C | B9: 1.7C | C9: practical: investigate the solubility of a solid in water at a specific temperature | D9: N | E9: N | F9: N | G9: N | H9: N | I9: N | J9: N
A10: 1.8 | B10: 1.8 | C10: understand how to classify a substance as an element, compound or mixture | D10: ü | E10: ü | F10: ü | G10: ü | H10: ü | I10: ü | J10: N
A11: 1.9 | B11: 1.9 | C11: understand that a pure substance has a fixed melting and boiling point, but that a mixture may melt or boil over a range of temperatures | D11: ü | E11: ü | F11: ü | G11: ü | H11: ü | I11: ü | J11: N
A12: 1.10 | B12: 1.10 | C12: describe these experimental techniques for the separation of mixtures: • simple distillation • fractional distillation • filtration • crystallisation • paper chromatography | D12: ü | E12: ü | F12: ü | G12: ü | H12: ü | I12: ü | J12: ü
A13: 1.11 | B13: 1.11 | C13: understand how a chromatogram provides information about the composition of a mixture | D13: ü | E13: ü | F13: ü | G13: ü | H13: ü | I13: ü | J13: ü
A14: 1.12 | B14: 1.12 | C14: understand how to use the calculation of Rf values to identify the components of a mixture | D14: ü | E14: ü | F14: ü | G14: ü | H14: ü | I14: ü | J14: ü
A15: 1.13 | B15: 1.13 | C15: practical: investigate paper chromatography using inks/food colourings | D15: ü | E15: ü | F15: N | G15: N | H15: ü | I15: ü | J15: ü
A16: 1.14 | B16: 1.14 | C16: know what is meant by the terms ‘atom’ and ‘molecule’ | D16: ü | E16: ü | F16: ü | G16: ü | H16: ü | I16: ü | J16: ü
... A88: 2.26C | B88: 2.12C | C88: know that an alloy is a mixture of a metal and one or more elements, usually other metals or carbon | D88: ü | E88: ü | F88: ü | G88: ü | H88: N | I88: N | J88: N
A89: 2.27C | B89: 2.13C | D89: ü | E89: ü | F89: ü | G89: ü | H89: ü | I89: ü | J89: ü
A90: 2.28 | B90: 2.14 | C90: describe the use of litmus, phenolphthalein and methyl orange to distinguish between acidic and alkaline solutions | D90: ü | E90: ü | F90: N | G90: N | H90: N | I90: N | J90: N
A91: 2.29 | B91: 2.15 | C91: understand how to use the pH scale, from 0–14, can be used to classify solutions as strongly acidic (0–3), weakly acidic (4–6), neutral (7), weakly alkaline (8–10) and strongly alkaline (11–14) | D91: ü | E91: ü | F91: ü | G91: ü | H91: ü | I91: ü | J91: ü
A92: 2.30 | B92: 2.16 | C92: describe the use of universal indicator to measure the approximate pH value of an aqueous solution | D92: ü | E92: ü | F92: ü | G92: ü | H92: ü | I92: ü | J92: ü
A93: 2.31 | B93: 2.17 | C93: know that acids in aqueous solution are a source of hydrogen ions and alkalis in a aqueous solution are a source of hydroxide ions | D93: ü | E93: N | F93: ü | G93: ü | H93: ü | I93: ü | J93: ü
A94: 2.32 | B94: 2.18 | C94: know that alkalis can neutralise acids | D94: ü | E94: ü | F94: ü | G94: ü | H94: ü | I94: ü | J94: ü
A95: 2.33C | B95: 2.19C | C95: describe how to carry out an acid-alkali titration | D95: ü | E95: ü | F95: ü | G95: ü | H95: ü | I95: N | J95: N
A96: 2.34 | B96: 2.20 | C96: know the general rules for predicting the solubility of ionic compounds in water: • common sodium, potassium and ammonium compounds are soluble • all nitrates are soluble • common chlorides are soluble, except those of silver and lead(II) • common sulfates are soluble, except for those of barium, calcium and lead(II) • common carbonates are insoluble, except for those of sodium, potassium and ammonium • common hydroxides are insoluble except for those of sodium, potassium and calcium (calcium hydroxide is slightly soluble) | D96: ü | E96: N | F96: ü | G96: ü | H96: ü | I96: N | J96: N
A97: 2.35 | B97: 2.21 | C97: understand acids and bases in terms of proton transfer | D97: N | E97: N | F97: N | G97: N | H97: N | I97: N | J97: N
A98: 2.36 | B98: 2.22 | C98: understand that an acid is a proton donor and a base is a proton acceptor | D98: ü | E98: N | F98: N | G98: N | H98: ü | I98: ü | J98: N
A99: 2.37 | B99: 2.23 | C99: describe the reactions of hydrochloric acid, sulfuric acid and nitric acid with metals, bases and metal carbonates (excluding the reactions between nitric acid and metals) to form salts | D99: ü | E99: ü | F99: ü | G99: ü | H99: ü | I99: ü | J99: ü
A100: 2.38 | B100: 2.24 | C100: know that metal oxides, metal hydroxides and ammonia can act as bases, and that alkalis are bases that are soluble in water | D100: ü | E100: ü | F100: ü | G100: ü | H100: N | I100: N | J100: N
A101: 2.39 | B101: 2.25 | C101: describe an experiment to prepare a pure, dry sample of a soluble salt, starting from an insoluble reactant | D101: ü | E101: ü | F101: ü | G101: ü | H101: ü | I101: ü | J101: ü
... A184: 4.50C | B184: 8.22C | C184: know that some polyesters, known as biopolyesters, are biodegradable | D184: N | E184: N | F184: N | G184: N | H184: N | I184: N | J184: N

Sheet Physics Comparison Overview
A1: Pearson Edexcel | D1: Comparison overview ( "N" means not specified/unclear)
A2: Linear spec points | B2: Modular spec point | C2: Spec point description | D2: CIE (Separate) | E2: CIE (Co-ordinated) | F2: OxfordAQA (Separate) | G2: OxfordAQA (Combined Science) | H2: AQA (Separate) | I2: AQA (Comb Sci Trilogy) | J2: AQA (Comb Sci Synergy)
A3: 1.1 | B3: 1.1 | C3: use the following units: kilogram (kg), metre (m), metre/second (m/s), metre/second2 (m/s2), newton (N), second (s) and newton/kilogram (N/kg) | D3: N | E3: N | F3: N | G3: N | H3: ü | I3: ü | J3: N
A4: 1.2P | B4: 1.2P | C4: use the following units: newton metre (Nm), kilogram metre/second (kg m/s) | D4: N | E4: N | F4: N | G4: N | H4: N | I4: N | J4: N
A5: 1.3 | B5: 1.3 | C5: plot and explain distance-time graphs | D5: ü | E5: ü | F5: ü | G5: ü | H5: ü | I5: ü | J5: ü
A6: 1.4 | B6: 1.4 | C6: know and use the relationship between average speed, distance moved and time taken: average speed = distance moved / time taken | D6: ü | E6: ü | F6: ü | G6: ü | H6: ü | I6: ü | J6: ü
A7: 1.5 | B7: 1.5 | C7: practical: investigate the motion of everyday objects such as toy cars or tennis balls | D7: ü | E7: N | F7: N | G7: N | H7: N | I7: N | J7: N
A8: 1.6 | B8: 1.6 | C8: know and use the relationship between acceleration, change in velocity and time taken: acceleration = change in velocity / time taken; a = (v − u) / t | D8: ü | E8: ü | F8: ü | G8: ü | H8: ü | I8: ü | J8: ü
A9: 1.7 | B9: 1.7 | C9: plot and explain velocity-time graphs | D9: ü | E9: ü | F9: N | G9: N | H9: ü | I9: ü | J9: ü
A10: 1.8 | B10: 1.8 | C10: determine acceleration from the gradient of a velocity-time graph | D10: ü | E10: ü | F10: ü | G10: ü | H10: ü | I10: ü | J10: N
A11: 1.9 | B11: 1.9 | C11: determine the distance travelled from the area between a velocity-time graph and the time axis | D11: ü | E11: ü | F11: ü | G11: ü | H11: ü | I11: ü | J11: N
A12: 1.10 | B12: 1.10 | C12: use the relationship between final speed, initial speed, acceleration and distance moved: (final speed)2 = (initial speed)2 + (2 × acceleration × distance moved) v2 = u2 + (2 × a × s) | D12: N | E12: N | F12: N | G12: N | H12: ü | I12: ü | J12: N
A13: 1.11 | B13: 1.11 | C13: describe the effects of forces between bodies such as changes in speed, shape or direction | D13: ü | E13: ü | F13: ü | G13: ü | H13: ü | I13: ü | J13: ü
A14: 1.12 | B14: 1.12 | C14: identify different types of force such as gravitational or electrostatic | D14: N | E14: N | F14: ü | G14: ü | H14: ü | I14: ü | J14: ü
A15: 1.13 | B15: 1.13 | C15: understand how vector quantities differ from scalar quantities | D15: ü | E15: N | F15: ü | G15: ü | H15: ü | I15: ü | J15: ü
A16: 1.14 | B16: 1.14 | C16: understand that force is a vector quantity | D16: ü | E16: N | F16: ü | G16: ü | H16: N | I16: N | J16: N
A17: 1.15 | B17: 1.15 | C17: calculate the resultant force of forces that act along a line | D17: ü | E17: ü | F17: ü | G17: ü | H17: ü | I17: ü | J17: N
A18: 1.16 | B18: 1.16 | C18: know that friction is a force that opposes motion | D18: ü | E18: ü | F18: ü | G18: ü | H18: N | I18: N | J18: N
A19: 1.17 | B19: 1.17 | C19: know and use the relationship between unbalanced force, mass and acceleration: force = mass × acceleration F = m × a | D19: ü | E19: ü | F19: ü | G19: ü | H19: ü | I19: ü | J19: N
A20: 1.18 | B20: 1.18 | C20: know and use the relationship between weight, mass and gravitational field strength: weight = mass × gravitational field strength W = m × g | D20: ü | E20: ü | F20: ü | G20: ü | H20: ü | I20: ü | J20: ü
A21: 1.19 | B21: 1.19 | C21: know that the stopping distance of a vehicle is made up of the sum of the thinking distance and the braking distance | D21: N | E21: N | F21: ü | G21: ü | H21: ü | I21: ü | J21: N
A22: 1.20 | B22: 1.20 | C22: describe the factors affecting vehicle stopping distance, including speed, mass, road condition and reaction time | D22: N | E22: N | F22: ü | G22: ü | H22: ü | I22: ü | J22: ü
A23: 1.21 | B23: 1.21 | C23: describe the forces acting on falling objects (and explain why falling objects reach a terminal velocity) | D23: ü | E23: N | F23: ü | G23: N | H23: ü | I23: ü | J23: N
A24: 1.22 | B24: 1.22 | C24: practical: investigate how extension varies with applied force for helical springs, metal wires and rubber bands | D24: ü | E24: ü | F24: ü | G24: ü | H24: ü | I24: ü | J24: ü
A25: 1.23 | B25: 1.23 | C25: know that the initial linear region of a force-extension graph is associated with Hooke’s law | D25: ü | E25: ü | F25: N | G25: N | H25: ü | I25: ü | J25: ü
A26: 1.24 | B26: 1.24 | C26: describe elastic behaviour as the ability of a material to recover its original shape after the forces causing deformation have been removed | D26: N | E26: N | F26: N | G26: N | H26: N | I26: N | J26: ü
A27: 1.25P | B27: 1.25P | C27: know and use the relationship between momentum, mass and velocity: momentum = mass × velocity p = m × v | D27: ü | E27: N | F27: ü | G27: N | H27: ü | I27: ü | J27: ü
A28: 1.26P | B28: 1.26P | C28: use the idea of momentum to explain safety features | D28: N | E28: N | F28: ü | G28: N | H28: ü | I28: N | J28: N
A29: 1.27P | B29: 1.27P | C29: use the conservation of momentum to calculate the mass, velocity or momentum of objects | D29: ü | E29: N | F29: ü | G29: N | H29: ü | I29: ü | J29: N
A30: 1.28P | B30: 1.28P | C30: use the relationship between force, change in momentum and time taken: force = change in momentum/ time taken; F = (mv - mu)/t | D30: ü | E30: N | F30: ü | G30: N | H30: ü | I30: N | J30: N
A31: 1.29P | B31: 1.29P | C31: demonstrate an understanding of Newton’s third law | D31: N | E31: N | F31: ü | G31: ü | H31: ü | I31: ü | J31: ü
A32: 1.30P | B32: 1.30P | C32: know and use the relationship between the moment of a force and its perpendicular distance from the pivot: moment = force × perpendicular distance from the pivot | D32: ü | E32: ü | F32: ü | G32: N | H32: ü | I32: N | J32: N
A33: 1.31P | B33: 1.31P | C33: know that the weight of a body acts through its centre of gravity | D33: ü | E33: ü | F33: ü | G33: N | H33: N | I33: N | J33: N
A34: 1.32P | B34: 1.32P | C34: use the principle of moments for a simple system of parallel forces acting in one plane | D34: ü | E34: ü | F34: ü | G34: N | H34: N | I34: N | J34: N
A35: 1.33 | B35: 1.33 | C35: understand how the upward forces on a light beam, supported at its ends, vary with the position of a heavy object placed on the beam | D35: N | E35: N | F35: N | G35: N | H35: N | I35: N | J35: N
A36: 2.1 | B36: 2.1 | C36: use the following units: ampere (A), coulomb (C), joule (J), ohm (Ω), second (s), volt (V) and watt (W) | D36: ü | E36: ü | F36: ü | G36: ü | H36: N | I36: N | J36: N
A37: 2.2 | B37: 2.2 | C37: understand how the use of insulation, double insulation, earthing, fuses and circuit breakers protects the device or user in a range of domestic appliances | D37: ü | E37: ü | F37: ü | G37: ü | H37: N | I37: N | J37: ü
A38: 2.3 | B38: 2.3 | C38: understand why a current in a resistor results in the electrical transfer of energy and an increase in temperature, and how this can be used in a variety of domestic contexts | D38: N | E38: ü | F38: ü | G38: ü | H38: N | I38: N | J38: N
A39: 2.4 | B39: 2.4 | C39: know and use the relationship between power, current and voltage: power = current × voltage; P = I × V and apply the relationship to the selection of appropriate fuses | D39: ü | E39: ü | F39: ü | G39: ü | H39: ü | I39: ü | J39: ü
A40: 2.5 | B40: 2.5 | C40: use the relationship between energy transferred, current, voltage and time: energy transferred = current × voltage × time; E = I × V × t | D40: ü | E40: ü | F40: N | G40: N | H40: N | I40: N | J40: ü
...

Sheet CAIE IGCSE Biology 0610-0970
A1: CAIE Topic | B1: CAIE Sub topic | C1: CAIE Number | D1: CAIE Tier | E1: CAIE Spec content | F1: Pearson Edexcel Linear Spec point | G1: Pearson Edexcel Modular Spec point | H1: Pearson Edexcel Spec content - comparative | I1: Notes
A2: 1 Characteristics and classification of living organisms | B2: 1.1 Characteristics of living organisms | C2: 1 | D2: Core | E2: Describe the characteristics of living organisms by describing: (a) movement as an action by an organism or part of an organism causing a change of position or place (b) respiration as the chemical reactions in cells that break down nutrient molecules and release energy for metabolism (c) sensitivity as the ability to detect and respond to changes in the internal or external environment (d) growth as a permanent increase in size and dry mass (e) reproduction as the processes that make more of the same kind of organism (f) excretion as the removal of the waste products of metabolism and substances in excess of requirements (g) nutrition as the taking in of materials for energy, growth and development | F2: 1.1 | G2: 1.1 | H2: understand how living organisms share the following characteristics: • they require nutrition • they respire • they excrete their waste • they respond to their surroundings • they move • they control their internal conditions • they reproduce • they grow and develop | I2: Both require similar understanding of the characteristics of living organisms.
A3: 1 Characteristics and classification of living organisms | B3: 1.2 Concept and uses of classification systems | C3: 1 | D3: Core | E3: State that organisms can be classified into groups by the features that they share | F3: 1.2 & 1.3 | G3: 1.2 & 1.3 | H3: describe the common features shown by eukaryotic organisms: plants, animals, fungi and protoctists & describe the common features shown by prokaryotic organisms such as bacteria | I3: Edexcel is in different context, but principle remains the same as CIE
A4: 1 Characteristics and classification of living organisms | B4: 1.2 Concept and uses of classification systems | C4: 2 | D4: Core | E4: Describe a species as a group of organisms that can reproduce to produce fertile offspring | I4: No specific reference in Pearson Edexcel specification
A5: 1 Characteristics and classification of living organisms | B5: 1.2 Concept and uses of classification systems | C5: 3 | D5: Core | E5: Describe the binomial system of naming species as an internationally agreed system in which the scientific name of an organism is made up of two parts showing the genus and species | I5: No specific reference in Pearson Edexcel specification
A6: 1 Characteristics and classification of living organisms | B6: 1.2 Concept and uses of classification systems | C6: 4 | D6: Core | E6: Construct and use dichotomous keys based on identifiable features | I6: No specific reference in Pearson Edexcel specification
A7: 1 Characteristics and classification of living organisms | B7: 1.2 Concept and uses of classification systems | C7: 5 | D7: Supplement | E7: Explain that classification systems aim to reflect evolutionary relationships | I7: No specific reference in Pearson Edexcel specification
A8: 1 Characteristics and classification of living organisms | B8: 1.2 Concept and uses of classification systems | C8: 6 | D8: Supplement | E8: Explain that the sequences of bases in DNA are used as a means of classification | I8: No specific reference in Pearson Edexcel specification
A9: 1 Characteristics and classification of living organisms | B9: 1.2 Concept and uses of classification systems | C9: 7 | D9: Supplement | E9: Explain that groups of organisms which share a more recent ancestor (are more closely related) have base sequences in DNA that are more similar than those that share only a distant ancestor | I9: No specific reference in Pearson Edexcel specification
A10: 1 Characteristics and classification of living organisms | B10: 1.3 Features of organisms | C10: 1 | D10: Core | E10: State the main features used to place animals and plants into the appropriate kingdoms | F10: 1.2 | G10: 1.2 | H10: describe the common features shown by eukaryotic organisms: plants, animals, fungi and protoctists
A11: 1 Characteristics and classification of living organisms | B11: 1.3 Features of organisms | C11: 2 | D11: Core | E11: State the main features used to place organisms into groups within the animal kingdom, limited to: (a) the main groups of vertebrates: mammals, birds, reptiles, amphibians, fish (b) the main groups of arthropods: myriapods, insects, arachnids, crustaceans | F11: 1.2 | G11: 1.2 | H11: describe the common features shown by eukaryotic organisms: plants, animals, fungi and protoctists | I11: Section 1.2 on the Edexcel specification requires a knowledge of the characteristics of some kingdoms.
A12: 1 Characteristics and classification of living organisms | B12: 1.3 Features of organisms | C12: 3 | D12: Core | E12: Classify organisms using the features identified in 1.3.1 and 1.3.2
A13: 1 Characteristics and classification of living organisms | B13: 1.3 Features of organisms | C13: 4 | D13: Supplement | E13: State the main features used to place all organisms into one of the five kingdoms: animal, plant, fungus, prokaryote, protoctist | F13: 1.2 & 1.3 | G13: 1.2 & 1.3 | H13: describe the common features shown by eukaryotic organisms: plants, animals, fungi and protoctists & describe the common features shown by prokaryotic organisms such as bacteria
A14: 1 Characteristics and classification of living organisms | B14: 1.3 Features of organisms | C14: 5 | D14: Supplement | E14: State the main features used to place organisms into groups within the plant kingdom, limited to ferns and flowering plants (dicotyledons and monocotyledons | I14: No specific reference in Pearson Edexcel specification
A15: 1 Characteristics and classification of living organisms | B15: 1.3 Features of organisms | C15: 6 | D15: Supplement | E15: Classify organisms using the features identified in 1.3.4 and 1.3.5 | I15: No specific reference in Pearson Edexcel specification
A16: 1 Characteristics and classification of living organisms | B16: 1.3 Features of organisms | C16: 7 | D16: Supplement | E16: State the features of viruses, limited to a protein coat and genetic material | F16: 1.4 | G16: 1.4 | H16: Viruses: these are not living organisms. They are small particles, smaller than bacteria; They have a wide variety of shapes and sizes; they have no cellular structure but have a protein coat and contain one type of nucleic acid, either DNA or RNA
A17: 2 Organisation of the organism | B17: 2.1 Cell Structure | C17: 1 | D17: Core | E17: Describe and compare the structure of a plant cell with an animal cell, limited to: cell wall, cell membrane, nucleus, cytoplasm, chloroplasts, ribosomes, mitochondria, vacuoles | F17: 2.2 & 2.3 & 2.4 | G17: 2.2 & 2.3 & 2.4 | H17: describe cell structures, including the nucleus, cytoplasm, cell membrane, cell wall, mitochondria, chloroplasts, ribosomes and vacuole & know the similarities and differences in the structure of plant and animal cells
A18: 2 Organisation of the organism | B18: 2.1 Cell Structure | C18: 2 | D18: Core | E18: Describe the structure of a bacterial cell, limited to: cell wall, cell membrane, cytoplasm, ribosomes, circular DNA, plasmids | F18: 1.3 | G18: 1.3 | H18: describe the common features shown by prokaryotic organisms such as bacteria
A19: 2 Organisation of the organism | B19: 2.1 Cell Structure | C19: 3 | D19: Core | E19: Identify the cell structures listed in 2.1.1 and 2.1.2 in diagrams and images of plant, animal and bacterial cells | F19: 1.3 & 2.2 & 2.3 & 2.4 | G19: 1.3 & 2.2 & 2.3 & 2.4 | H19: As above
A20: 2 Organisation of the organism | B20: 2.1 Cell Structure | C20: 4 | D20: Core | E20: Describe the functions of the structures listed in 2.1.1 and 2.1.2 in plant, animal and bacterial cells | F20: 2.2 | G20: 2.2 | H20: describe the functions of the nucleus, cytoplasm, cell membrane, cell wall, mitochondria, chloroplasts, ribosomes and vacuole
A21: 2 Organisation of the organism | B21: 2.1 Cell Structure | C21: 5 | D21: Core | E21: State that new cells are produced by division of existing cells | F21: 3.28 & 3.30 | G21: 4.28 & 4.30 | H21: understand how division of a diploid cell by mitosis produces two cells that contain identical sets of chromosomes & understand how division of a cell by meiosis produces four cells, each with half the number of chromosomes, and that this results in the formation of genetically different haploid gametes
A22: 2 Organisation of the organism | B22: 2.1 Cell Structure | C22: 6 | D22: Core | E22: State that specialised cells have specific functions, limited to: (a) ciliated cells – movement of mucus in the trachea and bronchi (b) root hair cells – absorption (c) palisade mesophyll cells – photosynthesis (d) neurones – conduction of electrical impulses (e) red blood cells – transport of oxygen (f) sperm and egg cells (gametes) – reproduction | F22: 2.5B | G22: 2.5B | H22: explain the importance of cell differentiation in the development of specialised cells | I22: Specialised cells they need to know not specified in Pearson Edexcel
A23: 2 Organisation of the organism | B23: 2.1 Cell Structure | C23: 7 | D23: Core | E23: Describe the meaning of the terms: cell, tissue, organ, organ system and organism as illustrated by examples given in the syllabus | F23: 2.1 | G23: 2.1 | H23: describe the levels of organisation in organisms: organelles, cells, tissues, organs and systems
A24: 2 Organisation of the organism | B24: 2.2 Size of specimens | C24: 1 | D24: Core | E24: State and use the formula: magnification = image size ÷ actual size | F24: Mathematical skills 2I | G24: Mathematical skills 2I
A25: 2 Organisation of the organism | B25: 2.2 Size of specimens | C25: 2 | D25: Core | E25: Calculate magnification and size of biological specimens using millimetres as units | F25: Mathematical skills 2I | G25: Mathematical skills 2I
A26: 2 Organisation of the organism | B26: 2.2 Size of specimens | C26: 3 | D26: Supplement | E26: Convert measurements between millimetres (mm) and micrometres (μm) | F26: Mathematical skills 1A 1B | G26: Mathematical skills 1A 1B
A27: 3 Movement into and out of cells | B27: 3.1 Diffusion | C27: 1 | D27: Core | E27: Describe diffusion as the net movement of particles from a region of their higher concentration to a region of their lower concentration (i.e. down a concentration gradient), as a result of their random movement | F27: 2.15 | G27: 2.15 | H27: understand the processes of diffusion, osmosis and active transport by which substances move into and out of cells
A28: 3 Movement into and out of cells | B28: 3.1 Diffusion | C28: 2 | D28: Core | E28: State that the energy for diffusion comes from the kinetic energy of random movement of molecules and ions | F28: 2.15 | G28: 2.15 | H28: understand the processes of diffusion, osmosis and active transport by which substances move into and out of cells
A29: 3 Movement into and out of cells | B29: 3.1 Diffusion | C29: 3 | D29: Core | E29: State that some substances move into and out of cells by diffusion through the cell membrane | F29: 2.15 | G29: 2.15 | H29: understand the processes of diffusion, osmosis and active transport by which substances move into and out of cells
A30: 3 Movement into and out of cells | B30: 3.1 Diffusion | C30: 4 | D30: Core | E30: Describe the importance of diffusion of gases and solutes in living organisms | F30: 2.15 | G30: 2.15 | H30: understand the processes of diffusion, osmosis and active transport by which substances move into and out of cells
A31: 3 Movement into and out of cells | B31: 3.1 Diffusion | C31: 5 | D31: Core | E31: Investigate the factors that influence diffusion, limited to: surface area, temperature, concentration gradient and distance | F31: 2.16 & 2.17 | G31: 2.16 & 2.17 | H31: understand how factors affect the rate of movement of substances into and out of cells, including the effects of surface area to volume ratio, distance, temperature and concentration gradient & practical: investigate diffusion and osmosis using living and non-living systems
A32: 3 Movement into and out of cells | B32: 3.2 Osmosis | C32: 1 | D32: Core | E32: Describe the role of water as a solvent in organisms with reference to digestion, excretion and transport | I32: No specific reference in Pearson Edexcel specification
A33: 3 Movement into and out of cells | B33: 3.2 Osmosis | C33: 2 | D33: Core | E33: State that water diffuses through partially permeable membranes by osmosis | F33: 2.15 | G33: 2.15 | H33: understand the processes of diffusion, osmosis and active transport by which substances move into and out of cells
A34: 3 Movement into and out of cells | B34: 3.2 Osmosis | C34: 3 | D34: Core | E34: State that water moves into and out of cells by osmosis through the cell membrane | F34: 2.15 | G34: 2.15 | H34: understand the processes of diffusion, osmosis and active transport by which substances move into and out of cells
A35: 3 Movement into and out of cells | B35: 3.2 Osmosis | C35: 4 | D35: Core | E35: Investigate osmosis using materials such as dialysis tubing | F35: 2.17 | G35: 2.17 | H35: practical: investigate diffusion and osmosis using living and non-living systems
A36: 3 Movement into and out of cells | B36: 3.2 Osmosis | C36: 5 | D36: Core | E36: Investigate and describe the effects on plant tissues of immersing them in solutions of different concentrations | F36: 2.17 | G36: 2.17 | H36: practical: investigate diffusion and osmosis using living and non-living systems
A37: 3 Movement into and out of cells | B37: 3.2 Osmosis | C37: 6 | D37: Core | E37: State that plants are supported by the pressure of water inside the cells pressing outwards on the cell wall | F37: 2.15 | G37: 2.15 | H37: understand the processes of diffusion, osmosis and active transport by which substances move into and out of cells
A38: 3 Movement into and out of cells | B38: 3.2 Osmosis | C38: 7 | D38: Supplement | E38: Describe osmosis as the net movement of water molecules from a region of higher water potential (dilute solution) to a region of lower water potential (concentrated solution), through a partially permeable membrane | F38: 2.15 | G38: 2.15 | H38: understand the processes of diffusion, osmosis and active transport by which substances move into and out of cells
A39: 3 Movement into and out of cells | B39: 3.2 Osmosis | C39: 8 | D39: Supplement | E39: Explain the effects on plant cells of immersing them in solutions of different concentrations by using the terms: turgid, turgor pressure, plasmolysis, flaccid | F39: 2.15 | G39: 2.15 | H39: understand the processes of diffusion, osmosis and active transport by which substances move into and out of cells
A40: 3 Movement into and out of cells | B40: 3.2 Osmosis | C40: 9 | D40: Supplement | E40: Explain the importance of water potential and osmosis in the uptake and loss of water by organisms | F40: 2.56B | G40: 3.6B | H40: understand that transpiration is the evaporation of water from the surface of a plant
...

Sheet CAIE IGCSE Chemistry 0620-0971
A1: CAIE Topic | B1: CAIE Sub-topic | C1: CAIE Number | D1: CAIE Tier | E1: CAIE Spec content | F1: Pearson Edexcel Linear Spec point | G1: Pearson Edexcel Modular spec point | H1: Pearson Edexcel spec content - comparative | I1: Notes
A2: 1 States of matter | B2: 1.1 Solids, liquids and gases | C2: 1 | D2: Core | E2: State the distinguishing properties of solids, liquids and gases | I2: No specific reference in Pearson Edexcel specification
A3: 1 States of matter | B3: 1.1 Solids, liquids and gases | C3: 2 | D3: Core | E3: Describe the structures of solids, liquids and gases in terms of particle separation, arrangement and motion | F3: 1.1 | G3: 1.1 | H3: understand the three states of matter in terms of the arrangement, movement and energy of the particles
A4: 1 States of matter | B4: 1.1 Solids, liquids and gases | C4: 3 | D4: Core | E4: Describe changes of state in terms of melting, boiling, evaporating, freezing and condensing | F4: 1.2 | G4: 1.2 | H4: understand the interconversions between the three states of matter in terms of the names of the interconversions, how they are achieved, the changes in arrangement, movement and energy of the particles.
A5: 1 States of matter | B5: 1.1 Solids, liquids and gases | C5: 4 | D5: Core | E5: Describe the effects of temperature and pressure on the volume of a gas | I5: This topic is covered in iGCSE Physics and only has a minor overlap in spec. point 3.10 where the effect of pressure and temperature on rates of reaction is considered.
A6: 1 States of matter | B6: 1.1 Solids, liquids and gases | C6: 5 | D6: Supplement | E6: Explain changes of state in terms of kinetic particle theory, including the interpretation of heating and cooling curves | I6: This topic is covered in iGCSE Physics and only has a minor overlap in spec. point 3.10 where the effect of pressure and temperature on rates of reaction is considered.
A7: 1 States of matter | B7: 1.1 Solids, liquids and gases | C7: 6 | D7: Supplement | E7: Explain, in terms of kinetic particle theory, the effects of temperature and pressure on the volume of a gas | I7: This topic is covered in iGCSE Physics and only has a minor overlap in spec. point 3.10 where the effect of pressure and temperature on rates of reaction is considered.
A8: 1 States of matter | B8: 1.2 Diffusion | C8: 1 | D8: Core | E8: Describe and explain diffusion in terms of kinetic particle theory | F8: 1.3 | G8: 1.3 | H8: understand how the results of experiments involving the dilution of coloured solutions and diffusion of gases can be explained
A9: 1 States of matter | B9: 1.2 Diffusion | C9: 2 | D9: Supplement | E9: Describe and explain the effect of relative molecular mass on the rate of diffusion of gases | F9: 1.3 | G9: 1.3 | H9: understand how the results of experiments involving the dilution of coloured solutions and diffusion of gases can be explained
A10: 2 Atoms, elements and compounds | B10: 2.1 Elements, compounds and mixtures | C10: 1 | D10: Core | E10: Describe the differences between elements, compounds and mixtures | F10: 1.14 & 1.8 | G10: 1.14 & 1.8 | H10: know what is meant by the terms ‘atom’ and ‘molecule’. & understand how to classify a substance as an element, compound or mixture
A11: 2 Atoms, elements and compounds | B11: 2.2 Atomic structure and the Periodic Table | C11: 1 | D11: Core | E11: Describe the structure of the atom as a central nucleus containing neutrons and protons surrounded by electrons in shells | F11: 1.15 | G11: 1.15 | H11: know the structure of an atom in terms of the positions, relative masses and relative charges of sub-atomic particles
A12: 2 Atoms, elements and compounds | B12: 2.2 Atomic structure and the Periodic Table | C12: 2 | D12: Core | E12: State the relative charges and relative masses of a proton, a neutron and an electron | F12: 1.15 | G12: 1.15 | H12: know the structure of an atom in terms of the positions, relative masses and relative charges of sub-atomic particles
A13: 2 Atoms, elements and compounds | B13: 2.2 Atomic structure and the Periodic Table | C13: 3 | D13: Core | E13: Define proton number/atomic number as the number of protons in the nucleus of an atom | F13: 1.16 | G13: 1.16 | H13: know what is meant by the terms atomic number, mass number, isotopes and relative atomic mass (Ar)
A14: 2 Atoms, elements and compounds | B14: 2.2 Atomic structure and the Periodic Table | C14: 4 | D14: Core | E14: Define mass number/nucleon number as the total number of protons and neutrons in the nucleus of an atom | F14: 1.16 | G14: 1.16 | H14: know what is meant by the terms atomic number, mass number, isotopes and relative atomic mass (Ar)
A15: 2 Atoms, elements and compounds | B15: 2.2 Atomic structure and the Periodic Table | C15: 5 | D15: Core | E15: Determine the electronic configuration of elements and their ions with proton number 1 to 20, e.g. 2,8,3 | F15: 1.19 & 1.37 & 1.38 | G15: 1.19 & 5.1 & 5.2 | H15: understand how to deduce the electronic configurations of the first 20 elements from their positions in the Periodic Table & understand how ions are formed by electron loss or gain & know the charges of these ions: • metals in Groups 1, 2 and 3 • non-metals in Groups 5, 6 and 7 • Ag+, Cu2+, Fe2+, Fe3+, Pb2+, Zn2+ • hydrogen (H+), hydroxide (OH–), ammonium (NH4+), carbonate (CO32–), nitrate (NO3- ), sulfate (SO42–) | I15: Specification point 1.19 requires candidates to know the electron configurations of elements with proton number 1 to 20. However, the concept of ions is covered in later specification points - 1.37 and1.38 and this requires candidates to know the charges on the ions for elements in groups 1,2,3 and groups 5,6 and 7 of the periodic table.
A16: 2 Atoms, elements and compounds | B16: 2.2 Atomic structure and the Periodic Table | C16: 6 | D16: Core | E16: State that: (a) Group VIII noble gases have a full outer electron shell (b) the number of outer shell electrons is equal to the group number in Groups I to VII (c) the number of occupied electron shells is equal to the period number | F16: 1.18 & 1.22 & 1.24 | G16: 1.18 & 1.22 & 1.24 | H16: This topic is covered by three specification points - 1.18 (group number and period number), 1.22 (electron configuration) and 1.24 (noble gases which are identified as group 0 rather than group VIII)
A17: 2 Atoms, elements and compounds | B17: 2.3 Isotopes | C17: 1 | D17: Core | E17: Define isotopes as different atoms of the same element that have the same number of protons but different numbers of neutrons | F17: 1.16 | G17: 1.16 | H17: know what is meant by the terms atomic number, mass number, isotopes and relative atomic mass (Ar) | I17: This specification point covers several other concepts as well such as atomic number, mass number and relative atomic mass.
A18: 2 Atoms, elements and compounds | B18: 2.3 Isotopes | C18: 2 | D18: Core | E18: Interpret and use symbols for atoms, e.g. 6 12C, and ions, e.g. 17 35Cl – | F18: 1.38 | G18: 5.2 | H18: know the charges of these ions: metals in Groups 1, 2 and 3, non-metals in Groups 5, 6 and 7, Ag+, Cu2+, Fe2+, Fe3+, Pb2+, Zn2+, hydrogen (H+), hydroxide (OH–), ammonium (NH4+), carbonate (CO32–),nitrate (NO3-), sulfate (SO42–). | I18: Interpreting symbols for ions is covered by this specification point. The symbols for atoms, including their mass number is covered by the periodic table which is provided in all the Chemistry papers.
A19: 2 Atoms, elements and compounds | B19: 2.3 Isotopes | C19: 3 | D19: Supplement | E19: State that isotopes of the same element have the same chemical properties because they have the same number of electrons and therefore the same electronic configuration | F19: 1.16 & 1.23 | G19: 1.16 & 1.23 | H19: know what is meant by the terms atomic number, mass number, isotopes and relativeatomic mass (Ar) & understand why elements in the same group of the Periodic Table have similar chemical properties | I19: A formal statement of why isotopes of the same element have the same chemical properties is not directly mentioned but these two specification points do cover the reason why this is so.
A20: 2 Atoms, elements and compounds | B20: 2.3 Isotopes | C20: 4 | D20: Supplement | E20: Calculate the relative atomic mass of an element from the relative masses and abundances of its isotopes | F20: 1.17 | G20: 1.17 | H20: be able to calculate the relative atomic mass of an element (Ar) from isotopic abundances
A21: 2 Atoms, elements and compounds | B21: 2.4 Ions and ionic bonds | C21: 1 | D21: Core | E21: Describe the formation of positive ions, known as cations, and negative ions, known as anions | F21: 1.37 & 1.57C | G21: 5.1 & 5.21C | H21: understand how ions are formed by electron loss or gain & know that anion and cation are terms used to refer to negative and positive ions respectively | I21: The formation of ions is covered but the terms anions and cations are only required in the electrolysis section of the specification.
A22: 2 Atoms, elements and compounds | B22: 2.4 Ions and ionic bonds | C22: 2 | D22: Core | E22: State that an ionic bond is a strong electrostatic attraction between oppositely charged ions | F22: 1.41 | G22: 5.5 | H22: understand ionic bonding in terms of electrostatic attractions
A23: 2 Atoms, elements and compounds | B23: 2.4 Ions and ionic bonds | C23: 3 | D23: Core | E23: Describe the formation of ionic bonds between elements from Group I and Group VII, including the use of dot-and-cross diagrams | F23: 1.39 & 1.40 | G23: 5.3 & 5.4 | H23: write formulae for compounds formed between the ions listed above & draw dot-and-cross diagrams to show the formation of ionic compounds by electron transfer, limited to combinations of elements from Groups 1, 2, 3 and 5, 6, 7,only outer electrons need be shown
A24: 2 Atoms, elements and compounds | B24: 2.4 Ions and ionic bonds | C24: 4 | D24: Core | E24: Describe the properties of ionic compounds: (a) high melting points and boiling points (b) good electrical conductivity when aqueous or molten and poor when solid | F24: 1.42 & 1.43 | G24: 5.6 & 5.7 | H24: understand why compounds with giant ionic lattices have high melting and boiling points & know that ionic compounds do not conduct electricity when solid, but do conduct electricity when molten and in aqueous solution | I24: The CIE specification divides this into two specification points (describe and then Explain).
A25: 2 Atoms, elements and compounds | B25: 2.4 Ions and ionic bonds | C25: 5 | D25: Supplement | E25: Describe the giant lattice structure of ionic compounds as a regular arrangement of alternating positive and negative ions | F25: 1.42 | G25: 5.6 | H25: understand why compounds with giant ionic lattices have high melting and boiling points | I25: Sodium chloride not given as an example in the Pearson Edexcel specification but to understand this specification statement (1.42) candidates would need to be familiar with how ions are arranged in a giant ionic structure.
A26: 2 Atoms, elements and compounds | B26: 2.4 Ions and ionic bonds | C26: 6 | D26: Supplement | E26: Describe the formation of ionic bonds between ions of metallic and non-metallic elements, including the use of dot-and-cross diagrams | F26: 1.4 | G26: 5.4 | H26: draw dot-and-cross diagrams to show the formation of ionic compounds by electron transfer, limited to combinations of elements from Groups 1, 2, 3 and 5, 6, 7 (only outer electrons need be shown)
A27: 2 Atoms, elements and compounds | B27: 2.4 Ions and ionic bonds | C27: 7 | D27: Supplement | E27: Explain in terms of structure and bonding the properties of ionic compounds: (a) high melting points and boiling points (b) good electrical conductivity when aqueous or molten and poor when solid | F27: 1.42 & 1.43 | G27: 5.6 & 5.7 | H27: understand why compounds with giant ionic lattices have high melting and boiling points & know that ionic compounds do not conduct electricity when solid, but do conduct electricity when molten and in aqueous solution | I27: The CIE specification divides this into two specification points (describe and then Explain).
A28: 2 Atoms, elements and compounds | B28: 2.5 Simple molecules and covalent bonds | C28: 1 | D28: Core | E28: State that a covalent bond is formed when a pair of electrons is shared between two atoms leading to noble gas electronic configurations | F28: 1.44 | G28: 5.8 | H28: know that a covalent bond is formed between atoms by the sharing of a pair of electrons | I28: Similar statements but the Pearson Edexcel specification does require candidates to understand covalent bonds in terms of electrostatic attraction.
A29: 2 Atoms, elements and compounds | B29: 2.5 Simple molecules and covalent bonds | C29: 2 | D29: Core | E29: Describe the formation of covalent bonds in simple molecules, including H2, Cl 2, H2O, CH4, NH3 and HCl. Use dot-and-cross diagrams to show the electronic configurations in these and similar molecules | F29: 1.46 | G29: 5.1 | H29: understand how to use dot-and-cross diagrams to represent covalent bonds in: diatomic molecules, including hydrogen, oxygen, nitrogen, halogens and hydrogen halides and inorganic molecules including water, ammonia and carbon dioxide and organic molecules containing up to two carbon atoms, including methane, ethane,ethene and those containing halogen atoms | I29: Similar statements but slightly different examples quoted.
A30: 2 Atoms, elements and compounds | B30: 2.5 Simple molecules and covalent bonds | C30: 3 | D30: Core | E30: Describe in terms of structure and bonding the properties of simple molecular compounds: (a) low melting points and boiling points (b) poor electrical conductivity | F30: 1.47 & 1.51 | G30: 5.11 & 5.15 | H30: explain why substances with a simple molecular structures are gases or liquids, or solids with low melting and boiling points (the term intermolecular forces of attraction can be use to represent all forces between molecules). & know that covalent compounds do not usually conduct electricity
A31: 2 Atoms, elements and compounds | B31: 2.5 Simple molecules and covalent bonds | C31: 4 | D31: Supplement | E31: Describe the formation of covalent bonds in simple molecules, including CH3OH, C2H4, O2, CO2 and N2. Use dot-and-cross diagrams to show the electronic configurations in these and similar molecules | F31: 1.46 | G31: 1.46 | H31: understand how to use dot-and-cross diagrams to represent covalent bonds in: diatomic molecules, including hydrogen, oxygen, nitrogen, halogens and hydrogen halides and inorganic molecules including water, ammonia and carbon dioxide and organic molecules containing up to two carbon atoms, including methane, ethane,ethene and those containing halogen atoms | I31: The Pearson Edexcel specification does not include alcohols in this section.
A32: 2 Atoms, elements and compounds | B32: 2.5 Simple molecules and covalent bonds | C32: 5 | D32: Supplement | E32: Explain in terms of structure and bonding the properties of simple molecular compounds: (a) low melting points and boiling points in terms of weak intermolecular forces (specific types of intermolecular forces are not required) (b) poor electrical conductivity | F32: 1.47 & 1.51 | G32: 5.11 & 5.15 | H32: explain why substances with a simple molecular structures are gases or liquids, or solids with low melting and boiling points (the term intermolecular forces of attraction can be used to represent all forces between molecules) & know that covalent compounds do not usually conduct electricity | I32: Same learning involved but the Pearson Edexcel specification also requires an understanding of why melting and boiling points generally increase with increasing relative mass.
A33: 2 Atoms, elements and compounds | B33: 2.6 Giant covalent structures | C33: 1 | D33: Core | E33: Describe the giant covalent structures of graphite and diamond | F33: 1.5 | G33: 5.14 | H33: explain how the structures of diamond, graphite and C60 fullerene influence their physical properties, including electrical conductivity and hardness | I33: Same learning involved but the Pearson Edexcel specification also includes fullerene.
A34: 2 Atoms, elements and compounds | B34: 2.6 Giant covalent structures | C34: 2 | D34: Core | E34: Relate the structures and bonding of graphite and diamond to their uses, limited to: (a) graphite as a lubricant and as an electrode (b) diamond in cutting tools | F34: 1.5 | G34: 5.14 | H34: explain how the structures of diamond, graphite and C60 fullerene influence their physical properties, including electrical conductivity and hardness | I34: Both this and the previous CIE statement are covered in one Pearson Edexcel specification point.
A35: 2 Atoms, elements and compounds | B35: 2.6 Giant covalent structures | C35: 3 | D35: Supplement | E35: Describe the giant covalent structure of silicon(IV) oxide, SiO2 | I35: No specific reference in Pearson Edexcel specification
A36: 2 Atoms, elements and compounds | B36: 2.6 Giant covalent structures | C36: 4 | D36: Supplement | E36: Describe the similarity in properties between diamond and silicon(IV) oxide, related to their structures | I36: No specific reference in Pearson Edexcel specification
A37: 2 Atoms, elements and compounds | B37: 2.7 Metallic bonding | C37: 1 | D37: Supplement | E37: Describe metallic bonding as the electrostatic attraction between the positive ions in a giant metallic lattice and a ‘sea’ of delocalised electrons | F37: 1.53C | G37: 5.17C | H37: understand metallic bonding in terms of electrostatic attractions | I37: In addition, the Pearson Edexcel specification requires candidates to know how to represent a metallic lattice with a 2-D diagram.
A38: 2 Atoms, elements and compounds | B38: 2.7 Metallic bonding | C38: 2 | D38: Supplement | E38: Explain in terms of structure and bonding the properties of metals: (a) good electrical conductivity (b) malleability and ductility | F38: 1.54C | G38: 5.18C | H38: explain typical physical properties of metals, including electrical conductivity and malleability
A39: 3 Stoichiometry | B39: 3.1 Formulae | C39: 1 | D39: Core | E39: State the formulae of the elements and compounds named in the subject content | I39: There is no equivalent statement of this in the Pearson Edexcel specification. However, the symbols for various elements and compounds do occur in various parts of the specification and each Chemistry paper includes a periodic table with element name and symbol identified. It is also implied in specification point 1.25 which refers to candidates being able to write balanced chemical equations.
A40: 3 Stoichiometry | B40: 3.1 Formulae | C40: 2 | D40: Core | E40: Define the molecular formula of a compound as the number and type of different atoms in one molecule | F40: 1.32 | G40: 1.32 | H40: know what is meant by the terms empirical formula and molecular formula
...

Sheet CAIE IGCSE Physics 0625-0972
A1: CAIE Topic | B1: CAIE Sub-topic | C1: CAIE Sub-sub-topic | D1: CAIE Number | E1: CAIE Tier | F1: CAIE Spec content | G1: Pearson Edexcel Linear Spec point | H1: Pearson Edexcel Modular Spec point | I1: Pearson Edexcel Spec content - comparative | J1: Notes
A2: 1 Motion | B2: 1.1 Physical quantities and measurement techniques | D2: 1 | E2: Core | F2: Describe the use of rulers and measuring cylinders to find a length or a volume | G2: 5.4 | H2: =IF(ISBLANK(G2),"",INDEX('Physics Comparison Overview'!$B$3:$B$197,MATCH(G2,'Physics Comparison Overview'!$A$3:$A$197,0))) -> 4.4 | I2: =IF(ISBLANK(G2),"",INDEX('Physics Comparison Overview'!$C$3:$C$197,MATCH(G2,'Physics Comparison Overview'!$A$3:$A$197,0))) -> practical: investigate density using direct measurements of mass and volume | J2: These practical skills are covered in the embedded practicals in the Pearson Edexcel specification
A3: 1 Motion | B3: 1.1 Physical quantities and measurement techniques | D3: 2 | E3: Core | F3: Describe how to measure a variety of time intervals using clocks and digital timers | G3: 1.5 | H3: =IF(ISBLANK(G3),"",INDEX('Physics Comparison Overview'!$B$3:$B$197,MATCH(G3,'Physics Comparison Overview'!$A$3:$A$197,0))) -> 1.5 | I3: =IF(ISBLANK(G3),"",INDEX('Physics Comparison Overview'!$C$3:$C$197,MATCH(G3,'Physics Comparison Overview'!$A$3:$A$197,0))) -> practical: investigate the motion of everyday objects such as toy cars or tennis balls | J3: These practical skills are covered in the embedded practicals in the Pearson Edexcel specification
A4: 1 Motion | B4: 1.1 Physical quantities and measurement techniques | D4: 3 | E4: Core | F4: Determine an average value for a small distance and for a short interval of time by measuring multiples (including the period of oscillation of a pendulum) | H4: =IF(ISBLANK(G4),"",INDEX('Physics Comparison Overview'!$B$3:$B$197,MATCH(G4,'Physics Comparison Overview'!$A$3:$A$197,0))) | I4: =IF(ISBLANK(G4),"",INDEX('Physics Comparison Overview'!$C$3:$C$197,MATCH(G4,'Physics Comparison Overview'!$A$3:$A$197,0))) | J4: These practical skills are covered in the embedded practicals in the Pearson Edexcel specification
A5: 1 Motion | B5: 1.1 Physical quantities and measurement techniques | D5: 4 | E5: Supplement | F5: Understand that a scalar quantity has magnitude (size) only and that a vector quantity has magnitude and direction | G5: 1.13 | H5: =IF(ISBLANK(G5),"",INDEX('Physics Comparison Overview'!$B$3:$B$197,MATCH(G5,'Physics Comparison Overview'!$A$3:$A$197,0))) -> 1.13 | I5: =IF(ISBLANK(G5),"",INDEX('Physics Comparison Overview'!$C$3:$C$197,MATCH(G5,'Physics Comparison Overview'!$A$3:$A$197,0))) -> understand how vector quantities differ from scalar quantities
